BEGIN:VCALENDAR
VERSION:2.0
PRODID:-//Brunswick Community College - ECPv6.6.4.2//NONSGML v1.0//EN
CALSCALE:GREGORIAN
METHOD:PUBLISH
X-WR-CALNAME:Brunswick Community College
X-ORIGINAL-URL:https://brunswickcc.edu
X-WR-CALDESC:Events for Brunswick Community College
REFRESH-INTERVAL;VALUE=DURATION:PT1H
X-Robots-Tag:noindex
X-PUBLISHED-TTL:PT1H
BEGIN:VTIMEZONE
TZID:America/New_York
BEGIN:DAYLIGHT
TZOFFSETFROM:-0500
TZOFFSETTO:-0400
TZNAME:EDT
DTSTART:20240310T070000
END:DAYLIGHT
BEGIN:STANDARD
TZOFFSETFROM:-0400
TZOFFSETTO:-0500
TZNAME:EST
DTSTART:20241103T060000
END:STANDARD
END:VTIMEZONE
BEGIN:VEVENT
DTSTART;TZID=America/New_York:20240501T110000
DTEND;TZID=America/New_York:20240501T140000
DTSTAMP:20260419T093927
CREATED:20240423T162427Z
LAST-MODIFIED:20240423T162427Z
UID:65218-1714561200-1714572000@brunswickcc.edu
SUMMARY:Mental Health Awareness Action Day
DESCRIPTION:
URL:https://brunswickcc.edu/event/mental-health-awareness-action-day/
LOCATION:Dolphin Cove
CATEGORIES:Academic Calendar
END:VEVENT
BEGIN:VEVENT
DTSTART;VALUE=DATE:20240507
DTEND;VALUE=DATE:20240508
DTSTAMP:20260419T093927
CREATED:20230822T142637Z
LAST-MODIFIED:20230822T142637Z
UID:60970-1715040000-1715126399@brunswickcc.edu
SUMMARY:Last Day of Classes
DESCRIPTION:
URL:https://brunswickcc.edu/event/last-day-of-classes-10/
CATEGORIES:Academic Calendar
END:VEVENT
BEGIN:VEVENT
DTSTART;VALUE=DATE:20240508
DTEND;VALUE=DATE:20240509
DTSTAMP:20260419T093927
CREATED:20230822T142742Z
LAST-MODIFIED:20230822T142742Z
UID:60972-1715126400-1715212799@brunswickcc.edu
SUMMARY:Grades Due by 5 P.M.
DESCRIPTION:
URL:https://brunswickcc.edu/event/grades-due-by-5-p-m-3/
CATEGORIES:Academic Calendar
END:VEVENT
BEGIN:VEVENT
DTSTART;VALUE=DATE:20240513
DTEND;VALUE=DATE:20240514
DTSTAMP:20260419T093927
CREATED:20230822T143027Z
LAST-MODIFIED:20230822T143027Z
UID:60978-1715558400-1715644799@brunswickcc.edu
SUMMARY:Payments for Summer 2024 Due by 12 Noon
DESCRIPTION:
URL:https://brunswickcc.edu/event/payments-for-summer-2024-due-by-12-noon/
CATEGORIES:Academic Calendar
END:VEVENT
BEGIN:VEVENT
DTSTART;VALUE=DATE:20240520
DTEND;VALUE=DATE:20240521
DTSTAMP:20260419T093927
CREATED:20230822T143122Z
LAST-MODIFIED:20230822T143122Z
UID:60980-1716163200-1716249599@brunswickcc.edu
SUMMARY:Open Registration-Payment Due at Registration
DESCRIPTION:
URL:https://brunswickcc.edu/event/open-registration-payment-due-at-registration-11/
CATEGORIES:Academic Calendar
END:VEVENT
BEGIN:VEVENT
DTSTART;VALUE=DATE:20240522
DTEND;VALUE=DATE:20240523
DTSTAMP:20260419T093927
CREATED:20230822T143158Z
LAST-MODIFIED:20230822T143158Z
UID:60982-1716336000-1716422399@brunswickcc.edu
SUMMARY:Summer Classes Begin
DESCRIPTION:
URL:https://brunswickcc.edu/event/summer-classes-begin-4/
CATEGORIES:Academic Calendar
END:VEVENT
BEGIN:VEVENT
DTSTART;VALUE=DATE:20240522
DTEND;VALUE=DATE:20240524
DTSTAMP:20260419T093927
CREATED:20230822T143242Z
LAST-MODIFIED:20230822T143242Z
UID:60984-1716336000-1716508799@brunswickcc.edu
SUMMARY:Add/Drop-Payment Due at Registration
DESCRIPTION:
URL:https://brunswickcc.edu/event/add-drop-payment-due-at-registration-5/
CATEGORIES:Academic Calendar
END:VEVENT
BEGIN:VEVENT
DTSTART;VALUE=DATE:20240527
DTEND;VALUE=DATE:20240528
DTSTAMP:20260419T093927
CREATED:20230822T143329Z
LAST-MODIFIED:20230822T143329Z
UID:60986-1716768000-1716854399@brunswickcc.edu
SUMMARY:Memorial Day Holiday (College Closed)
DESCRIPTION:
URL:https://brunswickcc.edu/event/memorial-day-holiday-college-closed-5/
CATEGORIES:Academic Calendar
END:VEVENT
BEGIN:VEVENT
DTSTART;VALUE=DATE:20240528
DTEND;VALUE=DATE:20240529
DTSTAMP:20260419T093927
CREATED:20230822T143359Z
LAST-MODIFIED:20230822T143359Z
UID:60988-1716854400-1716940799@brunswickcc.edu
SUMMARY:Classes Resume
DESCRIPTION:
URL:https://brunswickcc.edu/event/classes-resume-29/
CATEGORIES:Academic Calendar
END:VEVENT
END:VCALENDAR