BEGIN:VCALENDAR
VERSION:2.0
PRODID:-//Brunswick Community College - ECPv6.6.4.2//NONSGML v1.0//EN
CALSCALE:GREGORIAN
METHOD:PUBLISH
X-ORIGINAL-URL:https://brunswickcc.edu
X-WR-CALDESC:Events for Brunswick Community College
REFRESH-INTERVAL;VALUE=DURATION:PT1H
X-Robots-Tag:noindex
X-PUBLISHED-TTL:PT1H
BEGIN:VTIMEZONE
TZID:America/New_York
BEGIN:DAYLIGHT
TZOFFSETFROM:-0500
TZOFFSETTO:-0400
TZNAME:EDT
DTSTART:20240310T070000
END:DAYLIGHT
BEGIN:STANDARD
TZOFFSETFROM:-0400
TZOFFSETTO:-0500
TZNAME:EST
DTSTART:20241103T060000
END:STANDARD
END:VTIMEZONE
BEGIN:VEVENT
DTSTART;VALUE=DATE:20240415
DTEND;VALUE=DATE:20240416
DTSTAMP:20260423T043421
CREATED:20230822T141952Z
LAST-MODIFIED:20240220T154258Z
UID:60960-1713139200-1713225599@brunswickcc.edu
SUMMARY:Registration Begins for Summer/Fall 2024
DESCRIPTION:
URL:https://brunswickcc.edu/event/registration-begins-for-summer-fall-2024/
CATEGORIES:Academic Calendar
END:VEVENT
BEGIN:VEVENT
DTSTART;VALUE=DATE:20240415
DTEND;VALUE=DATE:20240416
DTSTAMP:20260423T043421
CREATED:20230822T142521Z
LAST-MODIFIED:20230822T142521Z
UID:60966-1713139200-1713225599@brunswickcc.edu
SUMMARY:Last Day to Officially Withdraw with a Grade of “W” for 2nd 12 Week Classes
DESCRIPTION:
URL:https://brunswickcc.edu/event/last-day-to-officially-withdraw-with-a-grade-of-w-for-2nd-12-week-classes-4/
CATEGORIES:Academic Calendar
END:VEVENT
END:VCALENDAR